BEGIN:VCALENDAR
VERSION:2.0
METHOD:PUBLISH
X-WR-CALNAME;VALUE=TEXT:
PRODID:-//Drupal iCal API//EN
BEGIN:VEVENT
UID:wfbb-event-3744
DTSTAMP:20240913T114409Z
DTSTART:20240321T101500Z
DTEND:20240321T110000Z
SUMMARY:Digitalisierung in der Betriebsorganisation – Digitale Plattformen
DESCRIPTION:Online-Seminar –  SIBB und pro agro präsentieren | Möglichkeiten zur Digitalisierung | Digitalisierung in der Betriebsorganisation von KMU – Digitale Plattformen für die Zusammenarbeit von Teams
LOCATION:online
URL:https://www.eventbrite.de/e/digitale-plattformen-fur-die-zusammenarbeit-von-teams-tickets-844767601637
END:VEVENT
END:VCALENDAR
