BEGIN:VCALENDAR
VERSION:2.0
METHOD:PUBLISH
X-WR-CALNAME;VALUE=TEXT:
PRODID:-//Drupal iCal API//EN
BEGIN:VEVENT
UID:wfbb-event-3745
DTSTAMP:20240913T114409Z
DTSTART:20240305T180000Z
DTEND:20240305T200000Z
SUMMARY:Experimentierfelder Talks - Ergebnisse aus der Forschung
DESCRIPTION:Die Experimentierfelder präsentieren ihre Highlights in virtuellen Gesprächsrunden mit der Praxis
LOCATION:online
URL:https://farmwiki.de/de/Forschung/experimentierfeld_talk
END:VEVENT
END:VCALENDAR
