BEGIN:VCALENDAR
VERSION:2.0
METHOD:PUBLISH
X-WR-CALNAME;VALUE=TEXT:
PRODID:-//Drupal iCal API//EN
BEGIN:VEVENT
UID:wfbb-event-3763
DTSTAMP:20260115T085323Z
DTSTART:20240424T073000Z
DTEND:20240424T125000Z
SUMMARY:Wertschöpfung aus nachwachsenden Rohstoffen - Möglichkeiten in der Lausitz
DESCRIPTION:In enger Zusammenarbeit mit der AG Zukunftsbauern und der LEAG möchte Neuwerg - die Netzwerkstelle für Nachwachsende Rohstoffe - mit Ihnen zu den nachwachsenden Rohstoffen Miscanthus, Hanf und Wolle ins Gespräch kommen.
LOCATION:IBA-Studierhaus Seestraße 84 01983 Großräschen
URL:
END:VEVENT
END:VCALENDAR
