BEGIN:VCALENDAR
VERSION:2.0
METHOD:PUBLISH
X-WR-CALNAME;VALUE=TEXT:
PRODID:-//Drupal iCal API//EN
BEGIN:VEVENT
UID:wfbb-event-3805
DTSTAMP:20240913T114409Z
DTSTART:20240418T080000Z
DTEND:20240418T103000Z
SUMMARY:Zukunft gestalten: Fachkräftesicherung in der Ernährungswirtschaft
DESCRIPTION:Zukünftige Fachkräfte gewinnen und binden
LOCATION:
URL:https://www.berlin.arbeitundleben.de/veranstaltungen-und-seminare/?id=offer_9c4a451b0e22_11184643941
END:VEVENT
END:VCALENDAR
