BEGIN:VCALENDAR
VERSION:2.0
METHOD:PUBLISH
X-WR-CALNAME;VALUE=TEXT:
PRODID:-//Drupal iCal API//EN
BEGIN:VEVENT
UID:wfbb-event-3818
DTSTAMP:20260115T085324Z
DTSTART:20240626T083000Z
DTEND:20240626T100000Z
SUMMARY:IEC24 - 5. Informations- und Matchmaking Veranstaltung
DESCRIPTION:INNOVATION EXPRESS CALL 2024 (IEC24) für zirkuläre Bioökonomie Wertschöpfungsketten ist


	offen von März – Ende Juli 2024
	ein gemeinsamer Call zur Einreichung von Kooperationsprojekten, der die Entwicklung transregionaler Wertschöpfungsketten der Kreislaufwirtschaft in der Bioökonomie fördert
	finanziert durch die Synchronisierung bestehender regionaler Förderprogramme im Alpenraum und darüber hinaus
LOCATION:online
URL:
END:VEVENT
END:VCALENDAR
