BEGIN:VCALENDAR
VERSION:2.0
METHOD:PUBLISH
X-WR-CALNAME;VALUE=TEXT:
PRODID:-//Drupal iCal API//EN
BEGIN:VEVENT
UID:wfbb-event-3826
DTSTAMP:20240913T114409Z
DTSTART:20240610T110000Z
DTEND:20240610T130000Z
SUMMARY:Praxis trifft Forschung #4
DESCRIPTION:- wie Lebensmitteltechnologie die Unternehmen der Ernährungswirtschaft unterstützen kann

Das gemeinsame Format "Praxis trifft Forschung" von Cluster Ernährungswirtschaft und Berlin Partner lädt interessierte Unternehmen der Ernährungswirtschaft ein, wissenschaftliche Einrichtungen in der Hauptstadtregion kennenzulernen. Welche Services stehen Ihnen zur Verfügung? Wie kann Transfer von wissenschaftlichen Erkenntnissen in die tägliche Praxis gelingen?
LOCATION:online
URL:
END:VEVENT
END:VCALENDAR
