BEGIN:VCALENDAR
VERSION:2.0
METHOD:PUBLISH
X-WR-CALNAME;VALUE=TEXT:
PRODID:-//Drupal iCal API//EN
BEGIN:VEVENT
UID:wfbb-event-3866
DTSTAMP:20240913T114409Z
DTSTART:20240627T070000Z
DTEND:20240627T110000Z
SUMMARY:Fachgespräch „Umstieg auf Mehrwegverpackungen beim Angebot Essen auf Rädern“
DESCRIPTION:Die Beratungs- und Vernetzungsstelle Verpackungsreduktion in Brandenburg (BVVB) an der HNE Eberswalder lädt zum Fachgespräch „Umstieg auf Mehrwegverpackungen beim Angebot Essen auf Rädern“ ein
LOCATION:online
URL:https://eveeno.com/226398826
END:VEVENT
END:VCALENDAR
