BEGIN:VCALENDAR
VERSION:2.0
METHOD:PUBLISH
X-WR-CALNAME;VALUE=TEXT:
PRODID:-//Drupal iCal API//EN
BEGIN:VEVENT
UID:wfbb-event-3870
DTSTAMP:20240913T114409Z
DTSTART:20240606T150000Z
DTEND:20240606T170000Z
SUMMARY:Von der Richtlinie zur Praxis: Digitalisierung in Aktion!
DESCRIPTION:Digitalisierung in Unternehmen und Handwerksbetrieben
LOCATION:RegionalCenter Teltow-Fläming Am Nuthepark 1 14943 Luckenwalde
URL:https://veranstaltung.ihk-potsdam.de/b?p=vonderrichtliniezurpraxisdigitalisierunginaktion
END:VEVENT
END:VCALENDAR
