BEGIN:VCALENDAR
VERSION:2.0
METHOD:PUBLISH
X-WR-CALNAME;VALUE=TEXT:
PRODID:-//Drupal iCal API//EN
BEGIN:VEVENT
UID:wfbb-event-3875
DTSTAMP:20240913T114409Z
DTSTART:20240620T070000Z
DTEND:20240620T130000Z
SUMMARY:4. Infotag an den Parzellen
DESCRIPTION:Der Landesbauernverband und das Institut für Lebensmittel und Umweltforschung e.V. laden zum 4. Infotag an den Parzellen.
LOCATION:MAFZ Erlebnispark Paaren Gartenstr. 1-3 14621 Schönwalde-Glien
URL:https://www.lbv-brandenburg.de/component/jem/event/44-4-infotag-an-den-parzellen
END:VEVENT
END:VCALENDAR
