BEGIN:VCALENDAR
VERSION:2.0
METHOD:PUBLISH
X-WR-CALNAME;VALUE=TEXT:
PRODID:-//Drupal iCal API//EN
BEGIN:VEVENT
UID:wfbb-event-3932
DTSTAMP:20260115T085327Z
DTSTART:20240926T070000Z
DTEND:20240927T150000Z
SUMMARY:Das Lausitzer ZukunftsForum Landnutzung
DESCRIPTION:Chancen und Herausforderungen klimaangepasster Landnutzung und nachhaltiger Bioökonomie anhand der Beispielregion Lausitz
LOCATION:Startblock B2 (Zentralcampus der BTU) Siemens-Halske-Ring 2 03046 Cottbus
URL:https://eveeno.com/lausitzer-zukunftsforum-landnutzung
END:VEVENT
END:VCALENDAR
