BEGIN:VCALENDAR
VERSION:2.0
METHOD:PUBLISH
X-WR-CALNAME;VALUE=TEXT:
PRODID:-//Drupal iCal API//EN
BEGIN:VEVENT
UID:wfbb-event-3944
DTSTAMP:20240913T114409Z
DTSTART:20240827T080000Z
DTEND:20240827T120000Z
SUMMARY:Feldtag Gemüsekohl
DESCRIPTION:Forschung für den Gartenbau - live und zum Anfassen
LOCATION:Leibniz Institut für Gemüse und Zierpflanzenbau Theodor Echtermeyer Weg 1 14979 Großbeeren
URL:https://igzev.de/aktuelles/events/2024-08-27-feldtag-gemusekohl-forschung-fur-den-gartenbau
END:VEVENT
END:VCALENDAR
