BEGIN:VCALENDAR
VERSION:2.0
METHOD:PUBLISH
X-WR-CALNAME;VALUE=TEXT:
PRODID:-//Drupal iCal API//EN
BEGIN:VEVENT
UID:wfbb-event-3965
DTSTAMP:20260115T085327Z
DTSTART:20241016T110000Z
DTEND:20241016T150000Z
SUMMARY:Zukunftsfähige Wirtschaft – Nachhaltiges Unternehmertum in KMUs
DESCRIPTION:Haben Sie Interesse Ihren Betrieb nachhaltiger aufzustellen oder vielleicht schon erste Schritte dafür unternommen? Dann laden wir Sie herzlich ein ins Gespräch zu kommen bei der Veranstaltung „Zukunftsfähige Wirtschaft – Nachhaltiges Unternehmertum in kleinen und mittleren Unternehmen“ Im Zuge der Veranstaltung erhalten Sie praxisnahe Informationen und Hinweise zu den Themenschwerpunkten: wirtschaftlicher Erfolg durch sozial-ökologisches Unternehmertum, Fachkräftesicherung und moderne Arbeitswelt, sowie Bürokratieentlastung durch Digitalisierung.

Die Veranstaltung wird im Rahmen der Nachhaltigkeitsplattform Brandenburg in Kooperation mit der Handwerkskammer Potsdam, der Industrie- und Handelskammer Cottbus und dem Forschungsinstitut für Nachhaltigkeit – Helmholtz-Zentrum Potsdam (RIFS) organisiert.
LOCATION:IntercityHotel Berlin Airport BER Terminal 1+2 Willy-Brandt-Platz 5 12529 Schönefeld
URL:
END:VEVENT
END:VCALENDAR
