BEGIN:VCALENDAR
VERSION:2.0
METHOD:PUBLISH
X-WR-CALNAME;VALUE=TEXT:
PRODID:-//Drupal iCal API//EN
BEGIN:VEVENT
UID:wfbb-event-4022
DTSTAMP:20241030T093454Z
DTSTART:20241114T090000Z
DTEND:20241114T140000Z
SUMMARY:Innovationstag Food - Verpackungslösungen nachhaltig und innovativ
DESCRIPTION:Der Innovationstag Food Berlin Brandenburg beleuchtet in diesem Jahr gemeinsam mit Expertinnen und Experten aus Unternehmen und wissenschaftlichen Einrichtungen aktuelle Herausforderungen zum Thema Verpackungen. 
LOCATION:ILB Konferenzzentrum | Auengeschoss Babelsberger Str. 21 14473 Potsdam
URL:
END:VEVENT
END:VCALENDAR
