BEGIN:VCALENDAR
VERSION:2.0
METHOD:PUBLISH
X-WR-CALNAME;VALUE=TEXT:
PRODID:-//Drupal iCal API//EN
BEGIN:VEVENT
UID:wfbb-event-4460
DTSTAMP:20260423T163219Z
DTSTART:20260430T110000Z
DTEND:20260430T120000Z
SUMMARY:EU-FÖRDERUNG Kompakt | EIT Raw Materials: Neue Förderchancen für Unternehmen
DESCRIPTION:Eine Seminarreihe des EEN Berlin-Brandenburg - In unserer Online-Seminarreihe “EU-FÖRDERUNG Kompakt” präsentieren wir Ihnen immer donnerstags von 13-14 Uhr jeweils einen Aspekt aus dem Horizont Europa Programm oder eine weitere europäische Fördermöglichkeit für Ihr Unternehmen.
LOCATION:online
URL:https://een-bb.de/v/eu-foerderung-kompakt-eit-raw-materials/
END:VEVENT
END:VCALENDAR
