BEGIN:VCALENDAR
VERSION:2.0
METHOD:PUBLISH
X-WR-CALNAME;VALUE=TEXT:
PRODID:-//Drupal iCal API//EN
BEGIN:VEVENT
UID:wfbb-event-726
DTSTAMP:20240913T114147Z
DTSTART:20200218T090000Z
DTEND:20200218T140000Z
SUMMARY:PRIMA
DESCRIPTION:Das DLR veranstaltet als Projektträger im Auftrag des BMBF eine Infoveranstaltung zum Start der dritten Ausschreibungsrunde der internationalen Förderinitiative PRIMA („Partnership for Research and Innovation in the Mediterranean Area“). 
LOCATION:DLR Projektträger Rosa-Luxemburg-Str. 2 10178 Berlin
URL:https://www.internationales-buero.de/de/prima_info_event_2020.php
END:VEVENT
END:VCALENDAR
