BEGIN:VCALENDAR
VERSION:2.0
METHOD:PUBLISH
X-WR-CALNAME;VALUE=TEXT:
PRODID:-//Drupal iCal API//EN
BEGIN:VEVENT
UID:wfbb-event-747
DTSTAMP:20240913T114147Z
DTSTART:20200213T090000Z
DTEND:20200213T160000Z
SUMMARY:#DigitalNavigator 2020
DESCRIPTION:Werden Sie zum erfolgreichen DigitalNavigator. Navigieren Sie zielstrebig zu den geeigneten Digitalisierungslösungen und umschiffen Sie souverän jegliche Untiefen.
LOCATION:DIGITALWERK  Eisenbahnstraße 109 14542 Werder
URL:https://www.eventbrite.de/e/digitalnavigator-2020-registrierung-87935281795?utm_term=eventurl_text
END:VEVENT
END:VCALENDAR
